BEGIN:VCALENDAR
VERSION:2.0
PRODID:-//Tukios.com/
BEGIN:VEVENT
UID:24778cb6-9f37-479d-b1e3-da9555d37662@www.integrityfuneralservice.com
DTSTAMP:20260421T225545Z
DTSTART:20260424T190000Z
DTEND:20260424T200000Z
SUMMARY:Funeral for Ryan Lee Hall
DESCRIPTION:
URL:https://www.integrityfuneralservice.com/obituaries/ryan-hall
LOCATION:Integrity Chapel 410 East Trudgeon Street  Henryetta OK 74437
GEO:35.4411511;-95.976855
END:VEVENT
END:VCALENDAR