BEGIN:VCALENDAR
VERSION:2.0
PRODID:-//Tukios.com/
BEGIN:VEVENT
UID:dad4a112-09c5-4809-9247-f70ab9eebb8b@www.integrityfuneralservice.com
DTSTAMP:20260421T225419Z
DTSTART:20260423T210000Z
DTEND:20260424T000000Z
SUMMARY:Viewing for Ryan Lee Hall
DESCRIPTION:
URL:https://www.integrityfuneralservice.com/obituaries/ryan-hall
LOCATION:Integrity Funeral Service 410 East Trudgeon Street  Henryetta OK 
	74437
GEO:35.4411511;-95.976855
END:VEVENT
END:VCALENDAR